BEGIN:VCALENDAR
PRODID:-//github.com/rianjs/ical.net//NONSGML ical.net 4.0//EN
VERSION:2.0
BEGIN:VEVENT
DESCRIPTION:Fedezd fel a természet erejét a Stúdióban! Óriásbogarak\, báln
 ák és a világűr lenyűgöző látványa vár rád egy különleges utazáson.
DTEND:20260531T160000Z
DTSTAMP:20260424T154618Z
DTSTART:20251001T070000Z
GEO:47.092425;17.903931
LOCATION:CODE Stúdió\nVeszprém\, Dózsa György utca 2
SEQUENCE:0
SUMMARY:A természet ereje
UID:33c59b21-a4fa-45eb-a8ed-6ca91404661f
END:VEVENT
END:VCALENDAR
