BEGIN:VCALENDAR
PRODID:-//github.com/rianjs/ical.net//NONSGML ical.net 4.0//EN
VERSION:2.0
BEGIN:VEVENT
DESCRIPTION:Fedezd fel a világ legkülönlegesebb építészeti csodáit! A Notr
 e-Dame\, Velence és Bábel tornya titkai most körülölelnek a Stúdióban.
DTEND:20260531T160000Z
DTSTAMP:20260424T154738Z
DTSTART:20250901T070000Z
GEO:47.092425;17.903931
LOCATION:CODE Stúdió\nVeszprém\, Dózsa György utca 2
SEQUENCE:0
SUMMARY:Épületek titkai
UID:f8af35d0-846c-4cb3-9465-173669cdba7b
END:VEVENT
END:VCALENDAR
