BEGIN:VCALENDAR
PRODID:-//github.com/rianjs/ical.net//NONSGML ical.net 4.0//EN
VERSION:2.0
BEGIN:VEVENT
DESCRIPTION:Ülj bele képzeletben egy gondolába\, és hagyd\, hogy a lagúnák
  csendes hullámai ringassanak. Lépj át a paloták falain\, és fedezd fel V
 elencét úgy\, ahogy még sosem láttad!
DTEND:20260531T160000Z
DTSTAMP:20260424T152236Z
DTSTART:20251001T070000Z
GEO:47.092425;17.903931
LOCATION:CODE Stúdió\nVeszprém\, Dózsa György utca 2
SEQUENCE:0
SUMMARY:Velence - A város\, amely festményként él
UID:056d1402-396c-4632-870b-5f5fd1811476
END:VEVENT
END:VCALENDAR
