BEGIN:VCALENDAR
PRODID:-//github.com/rianjs/ical.net//NONSGML ical.net 4.0//EN
VERSION:2.0
BEGIN:VEVENT
DESCRIPTION:Éld át a párizsi Notre-Dame katedrális időtlen szépségét! A St
 údióban a fények és hangok életre keltik a történelem egyik legnagyobb me
 sterművét.
DTEND:20260301T170000Z
DTSTAMP:20260424T154738Z
DTSTART:20250901T070000Z
GEO:47.092425;17.903931
LOCATION:CODE Stúdió\nVeszprém\, Dózsa György utca 2
SEQUENCE:0
SUMMARY:Notre-Dame - A hit és történelem katedrálisa
UID:d7fc3650-0fc5-41f2-8e73-7f63c417fadb
END:VEVENT
END:VCALENDAR
