BEGIN:VCALENDAR
PRODID:-//github.com/rianjs/ical.net//NONSGML ical.net 4.0//EN
VERSION:2.0
BEGIN:VEVENT
DESCRIPTION:Lépj be a művészet új dimenziójába! Kortárs és klasszikus alko
 tások kelnek életre fények és hangok varázslatos világában.
DTEND:20260531T160000Z
DTSTAMP:20260424T152236Z
DTSTART:20250901T070000Z
GEO:47.092425;17.903931
LOCATION:CODE Stúdió\nVeszprém\, Dózsa György utca 2
SEQUENCE:0
SUMMARY:Művészet új dimenzióban
UID:364d084d-fd63-4882-a210-33bc9b907642
END:VEVENT
END:VCALENDAR
