BEGIN:VCALENDAR
PRODID:-//github.com/rianjs/ical.net//NONSGML ical.net 4.0//EN
VERSION:2.0
BEGIN:VEVENT
DESCRIPTION:Lépj be a kozmosz végtelen világába! Fedezd fel a galaxisok és
  az ősrobbanás történetét egy felejthetetlen 3D utazás során a Stúdióban!
DTEND;VALUE=DATE:20261230
DTSTAMP:20260424T154332Z
DTSTART;VALUE=DATE:20260222
GEO:47.092425;17.903931
LOCATION:CODE Stúdió\nVeszprém\, Dózsa György utca 2
SEQUENCE:0
SUMMARY:Galaxisok és az ősrobbanás - Kozmikus különlegességek
UID:0ff3b33d-3334-48f6-b4a4-9c559eefe636
END:VEVENT
END:VCALENDAR
