BEGIN:VCALENDAR
PRODID:-//github.com/rianjs/ical.net//NONSGML ical.net 4.0//EN
VERSION:2.0
BEGIN:VEVENT
DESCRIPTION:Mi történik\, ha a világ zajai elnyomják a természet dallamait
 ? A CODE Elrejtett hangok című immerzív meséjében Zamira útra kel\, hogy 
 hangszerekbe rejtett dallamokat szabadítson fel.
DTEND:20260731T160000Z
DTSTAMP:20260424T154332Z
DTSTART:20251016T070000Z
GEO:47.092425;17.903931
LOCATION:CODE Kiállítóterek\nVeszprém\, Dózsa György utca 2
SEQUENCE:0
SUMMARY:Elrejtett hangok
UID:33a478c1-536f-45e3-9864-2c73e044334b
END:VEVENT
END:VCALENDAR
