BEGIN:VCALENDAR
PRODID:-//github.com/rianjs/ical.net//NONSGML ical.net 4.0//EN
VERSION:2.0
BEGIN:VEVENT
DESCRIPTION:Légy részese a CODE legújabb\, minden érzékszervre ható digitá
 lis művészeti utazásának\, amely Csontváry Kosztka Tivadar életét és művé
 szetét formálja át egyedülálló immerzív élménnyé!
DTEND:20260731T160000Z
DTSTAMP:20260424T152510Z
DTSTART:20250627T070000Z
GEO:47.092425;17.903931
LOCATION:CODE Kiállítóterek\nVeszprém\, Dózsa György utca 2
SEQUENCE:0
SUMMARY:CODE Csontváry - A fotonok nyelvén
UID:87133d29-1671-4076-9862-90229a754570
END:VEVENT
END:VCALENDAR
