BEGIN:VCALENDAR
PRODID:-//github.com/rianjs/ical.net//NONSGML ical.net 4.0//EN
VERSION:2.0
BEGIN:VEVENT
DESCRIPTION:Lépj be a belső naprendszer végtelen világába! Fedezd fel az é
 lhető zónát egy felejthetetlen 3D utazás során a Stúdióban!
DTEND;VALUE=DATE:20261230
DTSTAMP:20260424T155052Z
DTSTART;VALUE=DATE:20260222
GEO:47.092425;17.903931
LOCATION:CODE Stúdió\nVeszprém\, Dózsa György utca 2
SEQUENCE:0
SUMMARY:Az élhető zóna titkai - A belső Naprendszer
UID:f5ebbac0-fb84-4d26-b16a-a838e7662530
END:VEVENT
END:VCALENDAR
