BEGIN:VCALENDAR
PRODID:-//github.com/rianjs/ical.net//NONSGML ical.net 4.0//EN
VERSION:2.0
BEGIN:VEVENT
DESCRIPTION:Enter the infinite world of the cosmos! In the Studio\, stars\
 , planets\, and galaxies surround you\, taking you on an unforgettable 3D
  journey.
DTEND;VALUE=DATE:20261230
DTSTAMP:20260424T171629Z
DTSTART;VALUE=DATE:20260222
GEO:47.092425;17.903931
LOCATION:CODE Studio\nVeszprém\, Dózsa György u. 2
SEQUENCE:0
SUMMARY:Secrets of the habitable zone - The Inner Solar System
UID:962775e1-89e3-40d2-84ad-f1cc206bd6be
END:VEVENT
END:VCALENDAR
