BEGIN:VCALENDAR
PRODID:-//github.com/rianjs/ical.net//NONSGML ical.net 4.0//EN
VERSION:2.0
BEGIN:VEVENT
DESCRIPTION:Give the gift of an immersive experience at CODE Center of Dig
 ital Experiences. This gift card can be redeemed against various ticket t
 ypes and can be used both online and in person. It is also valid for 12 m
 onths.
DTEND:20261231T170000Z
DTSTAMP:20260424T181835Z
DTSTART:20251119T230000Z
GEO:47.092425;17.903931
LOCATION:CODE Exhibition Spaces\nVeszprém\, Dózsa György u. 2
SEQUENCE:0
SUMMARY:CODE ONLINE Gift Voucher
UID:56447e99-678e-4f9f-902c-7af802158a4d
END:VEVENT
END:VCALENDAR
